<?xml version="1.0" encoding="UTF-8" standalone="no"?>
<metadata xml:lang="en">
  <Esri>
    <CreaDate>20160420</CreaDate>
    <CreaTime>09283300</CreaTime>
    <ArcGISFormat>1.0</ArcGISFormat>
    <SyncOnce>FALSE</SyncOnce>
    <DataProperties>
      <lineage>
        <Process Date="20160420" Name="" Time="092833" ToolSource="c:\program files\arcgis\desktop10.3\ArcToolbox\Toolboxes\Data Management Tools.tbx\CreateMosaicDataset" export="">CreateMosaicDataset \\lee-county-fl.gov\fileserver\GIS\LEEGIS\LeeGISWebData\ImageIndexes\2016Pictometry\2016Images.gdb Color_Aerials_2016 "PROJCS['NAD_1983_StatePlane_Florida_West_FIPS_0902_Feet',GEOGCS['GCS_North_American_1983',DATUM['D_North_American_1983',SPHEROID['GRS_1980',6378137.0,298.257222101]],PRIMEM['Greenwich',0.0],UNIT['Degree',0.0174532925199433]],PROJECTION['Transverse_Mercator'],PARAMETER['False_Easting',656166.6666666665],PARAMETER['False_Northing',0.0],PARAMETER['Central_Meridian',-82.0],PARAMETER['Scale_Factor',0.9999411764705882],PARAMETER['Latitude_Of_Origin',24.33333333333333],UNIT['Foot_US',0.3048006096012192]];-17791300 -41645400 137249422.942576;-100000 10000;-100000 10000;3.28083333333333E-03;0.001;0.001;IsHighPrecision" # # NONE #</Process>
        <Process Date="20160420" Name="" Time="093753" ToolSource="c:\program files\arcgis\desktop10.3\ArcToolbox\Toolboxes\Data Management Tools.tbx\AddRastersToMosaicDataset" export="">AddRastersToMosaicDataset \\lee-county-fl.gov\fileserver\GIS\LEEGIS\LeeGISWebData\ImageIndexes\2016Pictometry\2016Images.gdb\Color_Aerials_2016 "Raster Dataset" \\lee-county-fl.gov\fileserver\GIS\LEEGIS\2016Pictometry\JPG UPDATE_CELL_SIZES UPDATE_BOUNDARY NO_OVERVIEWS # 0 1500 # # SUBFOLDERS ALLOW_DUPLICATES NO_PYRAMIDS NO_STATISTICS NO_THUMBNAILS # NO_FORCE_SPATIAL_REFERENCE</Process>
        <Process Date="20160420" Name="" Time="143536" ToolSource="c:\program files\arcgis\desktop10.3\ArcToolbox\Toolboxes\Data Management Tools.tbx\BuildPyramidsandStatistics" export="">BuildPyramidsandStatistics \\lee-county-fl.gov\fileserver\GIS\LEEGIS\LeeGISWebData\ImageIndexes\2016Pictometry\2016Images.gdb\Color_Aerials_2016 INCLUDE_SUBDIRECTORIES BUILD_PYRAMIDS CALCULATE_STATISTICS NONE # NONE 1 1 # -1 NONE NEAREST DEFAULT 75 SKIP_EXISTING</Process>
      </lineage>
      <itemProps>
        <itemName Sync="TRUE">Color_Aerials_2016</itemName>
        <itemLocation>
          <linkage Sync="TRUE">file://\\lee-county-fl.gov\fileserver\GIS\LEEGIS\LeeGISWebData\ImageIndexes\2016Pictometry\2016Images.gdb</linkage>
          <protocol Sync="TRUE">Local Area Network</protocol>
        </itemLocation>
        <nativeExtBox>
          <westBL Sync="TRUE">555000.000425</westBL>
          <eastBL Sync="TRUE">799999.997975</eastBL>
          <southBL Sync="TRUE">720000.000550</southBL>
          <northBL Sync="TRUE">894999.998800</northBL>
          <exTypeCode Sync="TRUE">1</exTypeCode>
        </nativeExtBox>
      </itemProps>
      <coordRef>
        <type Sync="TRUE">Projected</type>
        <geogcsn Sync="TRUE">GCS_North_American_1983</geogcsn>
        <csUnits Sync="TRUE">Linear Unit: Foot_US (0.304801)</csUnits>
        <projcsn Sync="TRUE">NAD_1983_StatePlane_Florida_West_FIPS_0902_Feet</projcsn>
        <peXml Sync="TRUE">&lt;ProjectedCoordinateSystem xsi:type='typens:ProjectedCoordinateSystem' xmlns:xsi='http://www.w3.org/2001/XMLSchema-instance' xmlns:xs='http://www.w3.org/2001/XMLSchema' xmlns:typens='http://www.esri.com/schemas/ArcGIS/10.3'&gt;&lt;WKT&gt;PROJCS[&amp;quot;NAD_1983_StatePlane_Florida_West_FIPS_0902_Feet&amp;quot;,GEOGCS[&amp;quot;GCS_North_American_1983&amp;quot;,DATUM[&amp;quot;D_North_American_1983&amp;quot;,SPHEROID[&amp;quot;GRS_1980&amp;quot;,6378137.0,298.257222101]],PRIMEM[&amp;quot;Greenwich&amp;quot;,0.0],UNIT[&amp;quot;Degree&amp;quot;,0.0174532925199433]],PROJECTION[&amp;quot;Transverse_Mercator&amp;quot;],PARAMETER[&amp;quot;False_Easting&amp;quot;,656166.6666666665],PARAMETER[&amp;quot;False_Northing&amp;quot;,0.0],PARAMETER[&amp;quot;Central_Meridian&amp;quot;,-82.0],PARAMETER[&amp;quot;Scale_Factor&amp;quot;,0.9999411764705882],PARAMETER[&amp;quot;Latitude_Of_Origin&amp;quot;,24.33333333333333],UNIT[&amp;quot;Foot_US&amp;quot;,0.3048006096012192],AUTHORITY[&amp;quot;EPSG&amp;quot;,2237]]&lt;/WKT&gt;&lt;XOrigin&gt;-17791300&lt;/XOrigin&gt;&lt;YOrigin&gt;-41645400&lt;/YOrigin&gt;&lt;XYScale&gt;137249422.94257641&lt;/XYScale&gt;&lt;ZOrigin&gt;-100000&lt;/ZOrigin&gt;&lt;ZScale&gt;10000&lt;/ZScale&gt;&lt;MOrigin&gt;-100000&lt;/MOrigin&gt;&lt;MScale&gt;10000&lt;/MScale&gt;&lt;XYTolerance&gt;0.0032808333333333331&lt;/XYTolerance&gt;&lt;ZTolerance&gt;0.001&lt;/ZTolerance&gt;&lt;MTolerance&gt;0.001&lt;/MTolerance&gt;&lt;HighPrecision&gt;true&lt;/HighPrecision&gt;&lt;WKID&gt;102659&lt;/WKID&gt;&lt;LatestWKID&gt;2237&lt;/LatestWKID&gt;&lt;/ProjectedCoordinateSystem&gt;</peXml>
      </coordRef>
      <RasterProperties>
        <General>
          <PixelDepth Sync="TRUE">8</PixelDepth>
          <HasColormap Sync="TRUE">FALSE</HasColormap>
          <CompressionType Sync="TRUE">None</CompressionType>
          <NumBands Sync="TRUE">3</NumBands>
          <Format Sync="TRUE">AMD</Format>
          <HasPyramids Sync="TRUE">TRUE</HasPyramids>
          <SourceType Sync="TRUE">continuous</SourceType>
          <PixelType Sync="TRUE">unsigned integer</PixelType>
          <NoDataValue Sync="TRUE"/>
        </General>
        <Properties>
          <MaxImageHeight Sync="TRUE">4100</MaxImageHeight>
          <MaxImageWidth Sync="TRUE">15000</MaxImageWidth>
          <MaxRecordCount Sync="TRUE">1000</MaxRecordCount>
          <MaxDownloadImageCount Sync="TRUE">20</MaxDownloadImageCount>
          <MaxDownloadSizeLimit Sync="TRUE">2048</MaxDownloadSizeLimit>
          <MaxMosaicImageCount Sync="TRUE">20</MaxMosaicImageCount>
          <DefaultCompressionQuality Sync="TRUE">75</DefaultCompressionQuality>
          <DefaultCompressionTolerance Sync="TRUE">0.01</DefaultCompressionTolerance>
          <BlendWidth Sync="TRUE">10</BlendWidth>
          <ViewpointSpacingX Sync="TRUE">600</ViewpointSpacingX>
          <ViewpointSpacingY Sync="TRUE">300</ViewpointSpacingY>
          <AllowedItemMetadata Sync="TRUE">Basic</AllowedItemMetadata>
          <DefaultResamplingMethod Sync="TRUE">1</DefaultResamplingMethod>
          <AllowedMosaicMethods Sync="TRUE">NorthWest,Center,LockRaster,ByAttribute,Nadir,Viewpoint,Seamline,None</AllowedMosaicMethods>
          <AllowedCompressions Sync="TRUE">None,JPEG,LZ77,LERC</AllowedCompressions>
          <AllowedMensurationCapabilities Sync="TRUE">Basic</AllowedMensurationCapabilities>
          <AvailableMensurationCapabilities Sync="TRUE">None,Basic,Base-Top Height,Top-Top Shadow Height,Base-Top Shadow Height,3D</AvailableMensurationCapabilities>
          <ClipToBoundary Sync="TRUE">-1</ClipToBoundary>
          <FootprintMayContainNoData Sync="TRUE">-1</FootprintMayContainNoData>
          <CellSizeTolerance Sync="TRUE">0.8</CellSizeTolerance>
          <MinimumPixelContribution Sync="TRUE">1</MinimumPixelContribution>
          <AvailableMosaicMethods Sync="TRUE">NorthWest,Center,LockRaster,ByAttribute,Nadir,Viewpoint,Seamline,None</AvailableMosaicMethods>
          <AvailableCompressionMethods Sync="TRUE">None,JPEG,LZ77,LERC</AvailableCompressionMethods>
          <AvailableItemMetadataLevels Sync="TRUE">None,Basic,Full</AvailableItemMetadataLevels>
          <ConfigKeyword Sync="TRUE"/>
          <BandDefinitionKeyword Sync="TRUE">NONE</BandDefinitionKeyword>
          <AllowedFields Sync="TRUE">Name,MinPS,MaxPS,LowPS,HighPS,Tag,GroupName,ProductName,CenterX,CenterY,ZOrder,Shape_Length,Shape_Area</AllowedFields>
          <MaxCellSize Sync="TRUE">48599.9995140008</MaxCellSize>
          <LowCellSize Sync="TRUE">0.333333330000006</LowCellSize>
          <HighCellSize Sync="TRUE">971.999990280016</HighCellSize>
        </Properties>
        <Functions Sync="TRUE">
          <Function Description="Performs on-the-fly mosaic on a raster catalog." Name="Mosaic Function"/>
        </Functions>
      </RasterProperties>
    </DataProperties>
    <SyncDate>20160422</SyncDate>
    <SyncTime>09021300</SyncTime>
    <ModDate>20240409</ModDate>
    <ModTime>14453100</ModTime>
    <scaleRange>
      <minScale>150000000</minScale>
      <maxScale>5000</maxScale>
    </scaleRange>
    <ArcGISProfile>ItemDescription</ArcGISProfile>
  </Esri>
  <dataIdInfo>
    <envirDesc Sync="TRUE">Microsoft Windows Server 2008 R2 Version 6.1 (Build 7601) Service Pack 1; Esri ArcGIS 10.3.1.4959</envirDesc>
    <dataLang>
      <languageCode Sync="TRUE" value="eng"/>
      <countryCode Sync="TRUE" value="USA"/>
    </dataLang>
    <idCitation>
      <resTitle Sync="TRUE">Aerials2016</resTitle>
      <presForm>
        <PresFormCd Sync="TRUE" value="005"/>
      </presForm>
    </idCitation>
    <spatRpType>
      <SpatRepTypCd Sync="TRUE" value="002"/>
    </spatRpType>
    <dataExt>
      <geoEle>
        <GeoBndBox esriExtentType="search">
          <exTypeCode Sync="TRUE">1</exTypeCode>
          <westBL Sync="TRUE">-82.310130</westBL>
          <eastBL Sync="TRUE">-81.559076</eastBL>
          <northBL Sync="TRUE">26.795953</northBL>
          <southBL Sync="TRUE">26.313828</southBL>
        </GeoBndBox>
      </geoEle>
    </dataExt>
    <idPurp>2016 Pictometry International Aerials
Aerial imagery flown by Pictometry International between 1/1/2016 and 1/29/2016 Resolution: 4" ground pixel size</idPurp>
    <idAbs>&lt;DIV STYLE="text-align:Left;"&gt;&lt;P STYLE="margin:0 0 0 0;"&gt;&lt;SPAN&gt;&lt;SPAN&gt;2016 Pictometry International Aerials&lt;/SPAN&gt;&lt;/SPAN&gt;&lt;/P&gt;&lt;P STYLE="margin:0 0 0 0;"&gt;&lt;SPAN&gt;&lt;SPAN&gt;Aerial imagery flown by Pictometry International between 1/1/2016 and 1/29/2016 Resolution: 4" ground pixel size&lt;/SPAN&gt;&lt;/SPAN&gt;&lt;/P&gt;&lt;/DIV&gt;</idAbs>
    <idCredit>Pictometry International, Lee County Property Appraiser, Lee County GIS</idCredit>
    <searchKeys>
      <keyword>Aerial</keyword>
      <keyword>Imagery</keyword>
      <keyword>Pictometry</keyword>
      <keyword>Orthophotography</keyword>
      <keyword>Ortho Images</keyword>
      <keyword>Photogrammetric Mapping</keyword>
      <keyword>Photogrammetry</keyword>
      <keyword>2016</keyword>
    </searchKeys>
    <resConst>
      <Consts>
        <useLimit>&lt;DIV STYLE="text-align:Left;"&gt;&lt;P&gt;&lt;SPAN&gt;&lt;SPAN&gt;The Lee County GIS Department has provided these GIS data sets as a public information resource. Every reasonable effort has been made to assure the accuracy of the data and other information contained. However, these data, maps, and other information are only as accurate as the source of such data, maps, and other information. Further, the data, maps, and other information on this layer are updated only periodically and therefore may not reflect the most current information.&lt;/SPAN&gt;&lt;/SPAN&gt;&lt;/P&gt;&lt;P&gt;&lt;SPAN&gt;&lt;SPAN&gt;The Lee County GIS Department makes no warranty, representation, or guarantee of any kind regarding either any data or other information provided herein or the sources of such data, maps, or other information. The Lee County GIS Department specifically disclaims all representations or warranties, express or implied, including, without limitation, the implied warranties of merchantability and fitness for a particular purpose.&lt;/SPAN&gt;&lt;/SPAN&gt;&lt;/P&gt;&lt;P&gt;&lt;SPAN&gt;The Lee County GIS Department assumes no liability either for any errors, omissions, or inaccuracies in the information provided regardless of the cause of such or for any decision made, action taken, or action not taken by the user in reliance upon any data, maps, or information provided herein.&lt;/SPAN&gt;&lt;/P&gt;&lt;/DIV&gt;</useLimit>
      </Consts>
    </resConst>
  </dataIdInfo>
  <mdLang>
    <languageCode Sync="TRUE" value="eng"/>
    <countryCode Sync="TRUE" value="USA"/>
  </mdLang>
  <refSysInfo>
    <RefSystem>
      <refSysID>
        <identCode Sync="TRUE" code="2237"/>
        <idCodeSpace Sync="TRUE">EPSG</idCodeSpace>
        <idVersion Sync="TRUE">8.6.2</idVersion>
      </refSysID>
    </RefSystem>
  </refSysInfo>
  <spatRepInfo>
    <Georect>
      <cellGeo>
        <CellGeoCd Sync="TRUE" value="002"/>
      </cellGeo>
      <numDims Sync="TRUE">2</numDims>
      <tranParaAv Sync="TRUE">1</tranParaAv>
      <chkPtAv Sync="TRUE">0</chkPtAv>
      <cornerPts>
        <pos Sync="TRUE">555000.000425 720000.000550</pos>
      </cornerPts>
      <cornerPts>
        <pos Sync="TRUE">555000.000425 894999.998800</pos>
      </cornerPts>
      <cornerPts>
        <pos Sync="TRUE">799999.997975 894999.998800</pos>
      </cornerPts>
      <cornerPts>
        <pos Sync="TRUE">799999.997975 720000.000550</pos>
      </cornerPts>
      <centerPt>
        <pos Sync="TRUE">677499.999200 807499.999675</pos>
      </centerPt>
      <axisDimension type="002">
        <dimSize Sync="TRUE">735000</dimSize>
        <dimResol>
          <value Sync="TRUE">0.333333</value>
        </dimResol>
      </axisDimension>
      <axisDimension type="001">
        <dimSize Sync="TRUE">525000</dimSize>
        <dimResol>
          <value Sync="TRUE">0.333333</value>
        </dimResol>
      </axisDimension>
      <ptInPixel>
        <PixOrientCd Sync="TRUE" value="001"/>
      </ptInPixel>
    </Georect>
  </spatRepInfo>
  <contInfo>
    <ImgDesc>
      <contentTyp>
        <ContentTypCd Sync="TRUE" value="001"/>
      </contentTyp>
      <covDim>
        <Band>
          <dimDescrp Sync="TRUE">Band_1</dimDescrp>
          <maxVal Sync="TRUE">255.000000</maxVal>
          <minVal Sync="TRUE">0.000000</minVal>
          <bitsPerVal Sync="TRUE">8</bitsPerVal>
        </Band>
        <Band>
          <dimDescrp Sync="TRUE">Band_2</dimDescrp>
          <maxVal Sync="TRUE">255.000000</maxVal>
          <minVal Sync="TRUE">0.000000</minVal>
          <bitsPerVal Sync="TRUE">8</bitsPerVal>
        </Band>
        <Band>
          <dimDescrp Sync="TRUE">Band_3</dimDescrp>
          <maxVal Sync="TRUE">249.000000</maxVal>
          <minVal Sync="TRUE">6.000000</minVal>
          <bitsPerVal Sync="TRUE">8</bitsPerVal>
        </Band>
      </covDim>
    </ImgDesc>
  </contInfo>
  <mdDateSt Sync="TRUE">20240409</mdDateSt>
  <mdHrLv>
    <ScopeCd value="005"/>
  </mdHrLv>
</metadata>
