2025 Eagle View Aerials<\/SPAN><\/P>Aerial imagery flown by Eagle View between 01/01/2025 an 03/11/2025 Resolution: 3\" ground pixel size<\/SPAN><\/P><\/DIV><\/DIV><\/DIV>",
"name": "Aerials/Aerials2025",
"description": "2025 Eagle View Aerials<\/SPAN><\/P>Aerial imagery flown by Eagle View between 01/01/2025 an 03/11/2025 Resolution: 3\" ground pixel size<\/SPAN><\/P><\/DIV><\/DIV><\/DIV>",
"extent": {
"xmin": 555000,
"ymin": 720000,
"xmax": 800000,
"ymax": 895000,
"spatialReference": {
"wkid": 103023,
"latestWkid": 6443
}
},
"initialExtent": {
"xmin": 555000,
"ymin": 720000,
"xmax": 800000,
"ymax": 895000,
"spatialReference": {
"wkid": 103023,
"latestWkid": 6443
}
},
"fullExtent": {
"xmin": 555000,
"ymin": 720000,
"xmax": 800000,
"ymax": 895000,
"spatialReference": {
"wkid": 103023,
"latestWkid": 6443
}
},
"sortableFields": "MinPS,MaxPS,LowPS,HighPS,CenterX,CenterY,ZOrder,Shape_Length,Shape_Area",
"bandCount": 3,
"pixelType": "U8",
"minValues": [
0,
0,
0
],
"maxValues": [
255,
255,
255
],
"meanValues": [
93.15621132503556,
124.11726009260482,
87.0781266026859
],
"stdvValues": [
25.049325510006533,
18.833593999944974,
22.022932361116112
],
"serviceProperties": "NorthWest<\/MosaicMethod>First<\/MosaicOperator>true<\/SortAscending><\/LockImageID>Name<\/TileOrderField>0<\/TileOrderBase>600.000000<\/AvgImageSpacingX>300.000000<\/AvgImageSpacingY>0.0<\/ViewPointX>0.0<\/ViewPointY>0.0<\/ViewPointDefShiftX>0.0<\/ViewPointDefShiftY>None<\/CompressionMethod>75<\/CompressionQuality>0.010000<\/CompressionTolerance>Bilinear<\/SamplingMethod><\/ImageServiceProperties><\/ImageServer>",
"allowedFields": "Name,MinPS,MaxPS,LowPS,HighPS,Tag,GroupName,ProductName,CenterX,CenterY,ZOrder,Shape_Length,Shape_Area",
"hasMultidimensions": false,
"pixelSizeX": 0.25,
"pixelSizeY": 0.25,
"meanPixelSize": 0.07620015240030481,
"datasetFormat": "AMD",
"uncompressedSize": 2058000000000,
"blockWidth": 2048,
"blockHeight": 256,
"compressionType": "None",
"bandNames": [
"Red",
"Green",
"Blue"
],
"allowCopy": true,
"allowAnalysis": true,
"itemAccess": false,
"inspectionCapabilities": "",
"minPixelSize": 0.4238552517361111,
"maxPixelSize": 434.02777777777777,
"copyrightText": "Eagle View, Lee County Property Appraiser, Lee County GIS",
"serviceDataType": "esriImageServiceDataTypeRGB",
"serviceSourceType": "esriImageServiceSourceTypeMosaicDataset",
"objectIdField": "OBJECTID",
"fields": [
{
"name": "OBJECTID",
"type": "esriFieldTypeOID",
"alias": "OBJECTID",
"domain": null
},
{
"name": "Shape",
"type": "esriFieldTypeGeometry",
"alias": "Shape",
"domain": null
},
{
"name": "Name",
"type": "esriFieldTypeString",
"alias": "Name",
"domain": null,
"length": 200
},
{
"name": "MinPS",
"type": "esriFieldTypeDouble",
"alias": "MinPS",
"domain": null
},
{
"name": "MaxPS",
"type": "esriFieldTypeDouble",
"alias": "MaxPS",
"domain": null
},
{
"name": "LowPS",
"type": "esriFieldTypeDouble",
"alias": "LowPS",
"domain": null
},
{
"name": "HighPS",
"type": "esriFieldTypeDouble",
"alias": "HighPS",
"domain": null
},
{
"name": "Category",
"type": "esriFieldTypeInteger",
"alias": "Category",
"domain": {
"type": "codedValue",
"name": "MosaicCatalogItemCategoryDomain",
"description": "Catalog item categories.",
"codedValues": [
{
"name": "Unknown",
"code": 0
},
{
"name": "Primary",
"code": 1
},
{
"name": "Overview",
"code": 2
},
{
"name": "Unprocessed Overview",
"code": 3
},
{
"name": "Partial Overview",
"code": 4
},
{
"name": "Inactive",
"code": 5
},
{
"name": "Uploaded",
"code": 253
},
{
"name": "Incomplete",
"code": 254
},
{
"name": "Custom",
"code": 255
}
],
"mergePolicy": "esriMPTDefaultValue",
"splitPolicy": "esriSPTDefaultValue"
}
},
{
"name": "Tag",
"type": "esriFieldTypeString",
"alias": "Tag",
"domain": null,
"length": 100
},
{
"name": "GroupName",
"type": "esriFieldTypeString",
"alias": "GroupName",
"domain": null,
"length": 100
},
{
"name": "ProductName",
"type": "esriFieldTypeString",
"alias": "ProductName",
"domain": null,
"length": 100
},
{
"name": "CenterX",
"type": "esriFieldTypeDouble",
"alias": "CenterX",
"domain": null
},
{
"name": "CenterY",
"type": "esriFieldTypeDouble",
"alias": "CenterY",
"domain": null
},
{
"name": "ZOrder",
"type": "esriFieldTypeInteger",
"alias": "ZOrder",
"domain": null
},
{
"name": "Shape_Length",
"type": "esriFieldTypeDouble",
"alias": "Shape_Length",
"domain": null
},
{
"name": "Shape_Area",
"type": "esriFieldTypeDouble",
"alias": "Shape_Area",
"domain": null
}
],
"capabilities": "Image,Metadata,Catalog,Mensuration",
"defaultMosaicMethod": "Northwest",
"allowedMosaicMethods": "NorthWest,Center,LockRaster,ByAttribute,Nadir,Viewpoint,Seamline,None",
"sortField": "",
"sortValue": null,
"sortAscending": true,
"mosaicOperator": "First",
"maxDownloadSizeLimit": 2048,
"defaultCompressionQuality": 75,
"defaultResamplingMethod": "Bilinear",
"maxImageHeight": 4100,
"maxImageWidth": 15000,
"maxRecordCount": 1000,
"maxDownloadImageCount": 20,
"maxMosaicImageCount": 20,
"singleFusedMapCache": true,
"tileInfo": {
"rows": 256,
"cols": 256,
"dpi": 96,
"format": "PNG",
"compressionQuality": 0,
"origin": {
"x": 553382,
"y": 896692
},
"spatialReference": {
"wkid": 103023,
"latestWkid": 6443
},
"lods": [
{
"level": 0,
"resolution": 434.02777777777777,
"scale": 500000
},
{
"level": 1,
"resolution": 217.01388888888889,
"scale": 250000
},
{
"level": 2,
"resolution": 108.50694444444444,
"scale": 125000
},
{
"level": 3,
"resolution": 54.25347222222222,
"scale": 62500
},
{
"level": 4,
"resolution": 27.12673611111111,
"scale": 31250
},
{
"level": 5,
"resolution": 13.563368055555555,
"scale": 15625
},
{
"level": 6,
"resolution": 6.781684027777778,
"scale": 7812.5
},
{
"level": 7,
"resolution": 3.390842013888889,
"scale": 3906.25
},
{
"level": 8,
"resolution": 1.6954210069444444,
"scale": 1953.125
},
{
"level": 9,
"resolution": 0.8477105034722222,
"scale": 976.5625
},
{
"level": 10,
"resolution": 0.4238552517361111,
"scale": 488.28125
},
{
"level": 11,
"resolution": 0.21192762586805555,
"scale": 244.140625
},
{
"level": 12,
"resolution": 0.10596381293402778,
"scale": 122.0703125
}
]
},
"storageInfo": {
"storageFormat": "esriMapCacheStorageModeCompactV2",
"packetSize": 128
},
"cacheType": "Map",
"allowRasterFunction": true,
"rasterFunctionInfos": [
{
"name": "None",
"description": "",
"help": ""
}
],
"rasterTypeInfos": [
{
"name": "Raster Dataset",
"description": "Supports all ArcGIS Raster Datasets",
"help": ""
}
],
"mensurationCapabilities": "Basic",
"hasHistograms": true,
"hasColormap": false,
"hasRasterAttributeTable": false,
"minScale": 500000,
"maxScale": 488.28125,
"exportTilesAllowed": false,
"supportsStatistics": true,
"supportsAdvancedQueries": true,
"editFieldsInfo": null,
"ownershipBasedAccessControlForRasters": null,
"allowComputeTiePoints": false,
"useStandardizedQueries": true,
"advancedQueryCapabilities": {
"useStandardizedQueries": true,
"supportsStatistics": true,
"supportsOrderBy": true,
"supportsDistinct": true,
"supportsPagination": true
},
"spatialReference": {
"wkid": 103023,
"latestWkid": 6443
}
}