View In:
ArcGIS JavaScript
ArcGIS Online Map Viewer
ArcGIS Earth
Service Description: 2016 Pictometry International Aerials
Aerial imagery flown by Pictometry International between 1/1/2016 and 1/29/2016 Resolution: 4" ground pixel size
Name: Aerials/Aerials2016
Description: 2016 Pictometry International Aerials
Aerial imagery flown by Pictometry International between 1/1/2016 and 1/29/2016 Resolution: 4" ground pixel size
Single Fused Map Cache: false
Extent:
XMin: 555000.0004250043
YMin: 720000.0005499941
XMax: 799999.9979750084
YMax: 894999.998799997
Spatial Reference: 102659
(2237)
LatestVCSWkid(0)
Initial Extent:
XMin: 555000.0004250043
YMin: 720000.0005499941
XMax: 799999.9979750084
YMax: 894999.998799997
Spatial Reference: 102659
(2237)
LatestVCSWkid(0)
Full Extent:
XMin: 555000.0004250043
YMin: 720000.0005499941
XMax: 799999.9979750084
YMax: 894999.998799997
Spatial Reference: 102659
(2237)
LatestVCSWkid(0)
Pixel Size X: 0.33333333000000565
Pixel Size Y: 0.33333333000000565
Band Count: 3
Pixel Type: U8
RasterFunction Infos: {"rasterFunctionInfos": [{
"name": "None",
"description": "A No-Op Function.",
"help": ""
}]}
Mensuration Capabilities: Basic
Inspection Capabilities:
Has Histograms: true
Has Colormap: false
Has Multi Dimensions : false
Rendering Rule:
Min Scale: 0
Max Scale: 0
Copyright Text: Pictometry International, Lee County Property Appraiser, Lee County GIS
Service Data Type: esriImageServiceDataTypeRGB
Min Values: 0, 0, 6
Max Values: 255, 255, 249
Mean Values: 120.09199784689163, 122.96717488413061, 89.59043125083014
Standard Deviation Values: 31.111582813423382, 27.447663663480274, 24.91017109241747
Object ID Field: OBJECTID
Fields:
-
OBJECTID
(
type: esriFieldTypeOID, alias: OBJECTID
)
-
Shape
(
type: esriFieldTypeGeometry, alias: Shape
)
-
Name
(
type: esriFieldTypeString, alias: Name, length: 200
)
-
MinPS
(
type: esriFieldTypeDouble, alias: MinPS
)
-
MaxPS
(
type: esriFieldTypeDouble, alias: MaxPS
)
-
LowPS
(
type: esriFieldTypeDouble, alias: LowPS
)
-
HighPS
(
type: esriFieldTypeDouble, alias: HighPS
)
-
Category
(
type: esriFieldTypeInteger, alias: Category
, Coded Values:
[0: Unknown]
, [1: Primary]
, [2: Overview]
, ...5 more...
)
-
Tag
(
type: esriFieldTypeString, alias: Tag, length: 100
)
-
GroupName
(
type: esriFieldTypeString, alias: GroupName, length: 100
)
-
ProductName
(
type: esriFieldTypeString, alias: ProductName, length: 100
)
-
CenterX
(
type: esriFieldTypeDouble, alias: CenterX
)
-
CenterY
(
type: esriFieldTypeDouble, alias: CenterY
)
-
ZOrder
(
type: esriFieldTypeInteger, alias: ZOrder
)
-
Shape_Length
(
type: esriFieldTypeDouble, alias: Shape_Length
)
-
Shape_Area
(
type: esriFieldTypeDouble, alias: Shape_Area
)
Default Mosaic Method: Northwest
Allowed Mosaic Methods: NorthWest,Center,LockRaster,ByAttribute,Nadir,Viewpoint,Seamline,None
SortField:
SortValue: null
Mosaic Operator: First
Default Compression Quality: 75
Default Resampling Method: Bilinear
Max Record Count: 1000
Max Image Height: 4100
Max Image Width: 15000
Max Download Image Count: 20
Max Mosaic Image Count: 20
Allow Raster Function: true
Allow Copy: true
Allow Analysis: true
Allow Compute TiePoints: false
Supports Statistics: true
Supports Advanced Queries: true
Use StandardizedQueries: true
Raster Type Infos:
Name: Raster Dataset
Description: Supports all ArcGIS Raster Datasets
Help:
Has Raster Attribute Table: false
Edit Fields Info: null
Ownership Based AccessControl For Rasters: null
Child Resources:
Info
Histograms
Statistics
Key Properties
Legend
Raster Function Infos
Supported Operations:
Export Image
Query
Identify
Measure
Compute Histograms
Compute Statistics Histograms
Get Samples
Compute Class Statistics
Query GPS Info
Find Images
Image to Map
Map to Image
Measure from Image
Image to Map Multiray
Query Boundary
Compute Pixel Location
Compute Angles
Validate
Project