View In:
ArcGIS JavaScript
ArcGIS Online Map Viewer
ArcGIS Earth
Service Description: This Digital Elevation Model consists of a Raster Image of the bare-earth (ground) Digital Elevation Model derived from LiDAR flown in 2018 (Lee County) and developed by Digital Aerial Solutions LLC. The original tiled dataset was downloaded from USGS and pixel values (meters) were converted to US feet using ESRI's Spatial Analyst Math/Times tool. The tiled mosaic was exported to a single image.
Name: LiDAR/DEM2018_1M_feet
Description: This Digital Elevation Model consists of a Raster Image of the bare-earth (ground) Digital Elevation Model derived from LiDAR flown in 2018 (Lee County) and developed by Digital Aerial Solutions LLC. The original tiled dataset was downloaded from USGS and pixel values (meters) were converted to US feet using ESRI's Spatial Analyst Math/Times tool. The tiled mosaic was exported to a single image.
Single Fused Map Cache: false
Extent:
XMin: 555577.9964593276
YMin: 717274.3948885744
XMax: 819425.8939593274
YMax: 915246.4398885742
Spatial Reference: 102659
(2237)
LatestVCSWkid(0)
Initial Extent:
XMin: 555577.9964593276
YMin: 717274.3948885744
XMax: 819425.8939593274
YMax: 915246.4398885742
Spatial Reference: 102659
(2237)
LatestVCSWkid(0)
Full Extent:
XMin: 555577.9964593276
YMin: 717274.3948885744
XMax: 819425.8939593274
YMax: 915246.4398885742
Spatial Reference: 102659
(2237)
LatestVCSWkid(0)
Pixel Size X: 3.28083333333333
Pixel Size Y: 3.28083333333333
Band Count: 1
Pixel Type: F32
RasterFunction Infos: {"rasterFunctionInfos": [{
"name": "None",
"description": "",
"help": ""
}]}
Mensuration Capabilities: Basic
Inspection Capabilities:
Has Histograms: true
Has Colormap: false
Has Multi Dimensions : false
Rendering Rule:
Min Scale: 0
Max Scale: 0
Copyright Text: U.S. Geological Survey
Service Data Type: esriImageServiceDataTypeGeneric
Min Values: -3.91533383820206
Max Values: 99.16597518417984
Mean Values: 11.126341397718798
Standard Deviation Values: 10.476294011584447
Object ID Field: OBJECTID
Fields:
-
OBJECTID
(
type: esriFieldTypeOID, alias: OBJECTID
)
-
Shape
(
type: esriFieldTypeGeometry, alias: Shape
)
-
Name
(
type: esriFieldTypeString, alias: Name, length: 200
)
-
MinPS
(
type: esriFieldTypeDouble, alias: MinPS
)
-
MaxPS
(
type: esriFieldTypeDouble, alias: MaxPS
)
-
LowPS
(
type: esriFieldTypeDouble, alias: LowPS
)
-
HighPS
(
type: esriFieldTypeDouble, alias: HighPS
)
-
Category
(
type: esriFieldTypeInteger, alias: Category
,
Coded Values:
[0: Unknown]
,
[1: Primary]
,
[2: Overview]
, ...6 more...
)
-
Tag
(
type: esriFieldTypeString, alias: Tag, length: 100
)
-
GroupName
(
type: esriFieldTypeString, alias: GroupName, length: 100
)
-
ProductName
(
type: esriFieldTypeString, alias: ProductName, length: 100
)
-
CenterX
(
type: esriFieldTypeDouble, alias: CenterX
)
-
CenterY
(
type: esriFieldTypeDouble, alias: CenterY
)
-
ZOrder
(
type: esriFieldTypeInteger, alias: ZOrder
)
-
Shape_Length
(
type: esriFieldTypeDouble, alias: Shape_Length
)
-
Shape_Area
(
type: esriFieldTypeDouble, alias: Shape_Area
)
Default Mosaic Method: Northwest
Allowed Mosaic Methods: NorthWest,Center,LockRaster,ByAttribute,Nadir,Viewpoint,Seamline,None
SortField:
SortValue: null
Mosaic Operator: First
Default Compression Quality: 75
Default Resampling Method: Bilinear
Max Record Count: 1000
Max Image Height: 4100
Max Image Width: 15000
Max Download Image Count: 20
Max Mosaic Image Count: 20
Allow Raster Function: true
Allow Copy: true
Allow Analysis: true
Allow Compute TiePoints: false
Supports Statistics: true
Supports Advanced Queries: true
Use StandardizedQueries: true
Raster Type Infos:
Name: Raster Dataset
Description: Supports all ArcGIS Raster Datasets
Help:
Has Raster Attribute Table: false
Edit Fields Info: null
Ownership Based AccessControl For Rasters: null
Child Resources:
Info
Histograms
Statistics
Key Properties
Legend
Raster Function Infos
Supported Operations:
Export Image
Query
Identify
Measure
Compute Histograms
Compute Statistics Histograms
Get Samples
Compute Class Statistics
Query GPS Info
Find Images
Image to Map
Map to Image
Measure from Image
Image to Map Multiray
Query Boundary
Compute Pixel Location
Compute Angles
Validate
Project